BEGIN:VCALENDAR
CALSCALE:GREGORIAN
X-WR-TIMEZONE;VALUE=TEXT:Pacific Standard Time
METHOD:PUBLISH
PRODID:-//Flo Inc.//FloSoft//EN
BEGIN:VEVENT
DTSTART;TZID=Pacific Standard Time:20251016T210000Z
DTSTAMP:20251016T210000Z
DTEND;TZID=Pacific Standard Time:20251016T221500Z
SUMMARY;ENCODING=QUOTED-PRINTABLE:A Buddha Descends
DESCRIPTION;ENCODING=QUOTED-PRINTABLE:Talk by Prof. Scott Pearce, Western Washington University.
LOCATION;ENCODING=QUOTED-PRINTABLE:Young Hall CS76
UID:1729720251016T210000ZA Buddha Descends
PRIORITY:3
BEGIN:VALARM
TRIGGER;VALUE=DURATION:-P1D
ACTION:DISPLAY
DESCRIPTION:Event reminder
END:VALARM
END:VEVENT
END:VCALENDAR
